BEGIN:VCALENDAR
VERSION:2.0
PRODID:-//Squarespace Inc/Squarespace 6//v6//EN
BEGIN:VEVENT
UID:5a6a5fb5e2c4833611bbf950@squarespace.com
DTSTAMP:20180125T230314Z
DTSTART:20180207T233000Z
DTEND:20180208T001500Z
SUMMARY:Beginners Fun Agility Classes - Rangiora
GEO:-43.306794;172.565308
LOCATION:Rangiora Vet Clinic\, New Zealand
END:VEVENT
END:VCALENDAR
