BEGIN:VCALENDAR
VERSION:2.0
PRODID:-//Squarespace Inc/Squarespace 6//v6//EN
BEGIN:VEVENT
UID:5a6a63ace4966be1f8a4ea26@squarespace.com
DTSTAMP:20180125T231332Z
DTSTART:20180228T113000Z
DTEND:20180328T231500Z
SUMMARY:Beginners Fun Agility Classes - Rangiora\, Session 4
GEO:-43.306794;172.565308
LOCATION:Rangiora Vet Clinic\, New Zealand
END:VEVENT
END:VCALENDAR
