BEGIN:VCALENDAR
VERSION:2.0
PRODID:-//Squarespace Inc/Squarespace 6//v6//EN
BEGIN:VEVENT
UID:5a6a9cdb8165f5f9f91c5f35@squarespace.com
DTSTAMP:20180126T031630Z
DTSTART:20180220T060000Z
DTEND:20180221T040000Z
SUMMARY:Beginners Dog Obedience Course - Rangiora
END:VEVENT
END:VCALENDAR
