BEGIN:VCALENDAR
VERSION:2.0
PRODID:-//Squarespace Inc/Squarespace 6//v6//EN
BEGIN:VEVENT
UID:5a6a9e0e085229f51dcfd500@squarespace.com
DTSTAMP:20180126T032020Z
DTSTART:20180223T033000Z
DTEND:20180223T043000Z
SUMMARY:Extra Beginners Dog Obedience Course 
GEO:-43.288084;172.594983
LOCATION:Rangiora Show Grounds\, New Zealand
END:VEVENT
END:VCALENDAR
