BEGIN:VCALENDAR
VERSION:2.0
PRODID:-//Squarespace Inc/Squarespace 6//v6//EN
BEGIN:VEVENT
UID:5a6a630d8165f5bca2e64230@squarespace.com
DTSTAMP:20180125T231538Z
DTSTART:20180221T233000Z
DTEND:20180222T001500Z
SUMMARY:Beginners Fun Agility Classes - Rangiora\, Session 3
GEO:-43.306794;172.565308
LOCATION:Rangiora Vet Clinic\, New Zealand
END:VEVENT
END:VCALENDAR
