BEGIN:VCALENDAR
VERSION:2.0
PRODID:-//Squarespace Inc/Squarespace 6//v6//EN
BEGIN:VEVENT
UID:5a6a624741920291e7bcdcaf@squarespace.com
DTSTAMP:20180125T231558Z
DTSTART:20180214T233000Z
DTEND:20180215T001500Z
SUMMARY:Beginners Fun Agility Classes - Rangiora\, Session 2
GEO:-43.306794;172.565308
LOCATION:Rangiora Vet Clinic\, New Zealand
END:VEVENT
END:VCALENDAR
