BEGIN:VCALENDAR
VERSION:2.0
PRODID:-//Squarespace Inc/Squarespace 6//v6//EN
BEGIN:VEVENT
UID:5a6a9e95c830255e65d646cf@squarespace.com
DTSTAMP:20180126T032600Z
DTSTART:20180221T033000Z
DTEND:20180221T043000Z
SUMMARY:Intermediate Dog Obedience Course
END:VEVENT
END:VCALENDAR
